BEGIN:VCALENDAR
VERSION:2.0
PRODID:-//guineainfomarket.com - ECPv6.15.20//NONSGML v1.0//EN
CALSCALE:GREGORIAN
METHOD:PUBLISH
X-WR-CALNAME:guineainfomarket.com
X-ORIGINAL-URL:https://www.guineainfomarket.com
X-WR-CALDESC:Eventos para guineainfomarket.com
REFRESH-INTERVAL;VALUE=DURATION:PT1H
X-Robots-Tag:noindex
X-PUBLISHED-TTL:PT1H
BEGIN:VTIMEZONE
TZID:Africa/Malabo
BEGIN:STANDARD
TZOFFSETFROM:+0100
TZOFFSETTO:+0100
TZNAME:WAT
DTSTART:20210101T000000
END:STANDARD
END:VTIMEZONE
BEGIN:VEVENT
DTSTART;TZID=Africa/Malabo:20220511T080000
DTEND;TZID=Africa/Malabo:20220511T150000
DTSTAMP:20260419T205020
CREATED:20220510T145334Z
LAST-MODIFIED:20220510T145453Z
UID:47211-1652256000-1652281200@www.guineainfomarket.com
SUMMARY:Gas Monetization in Africa & Energy Poverty - Malabo Business Breakfast
DESCRIPTION:PARTICIPATING: \nMINISTRY OF MINES AND HYDROCARBONS \nMINISTRY OF FINANCE \nMINISTRY OF ENERGY \nKEY BANKING INSTITUTIONS AND OIL AND GAS COMPANIES.
URL:https://www.guineainfomarket.com/event/gas-monetisation-in-africa-energy-poverty-malabo-business-breakfast/
LOCATION:La Colinas Hotel\, Colinas Hotel Avenue\, Malabo\, 00240\, Guinea Ecuatorial
CATEGORIES:Conferencia y exposición,Event
ATTACH;FMTTYPE=image/jpeg:https://www.guineainfomarket.com/wp-content/uploads/2022/05/Screenshot_20220510-125706_Chrome.jpg
END:VEVENT
END:VCALENDAR