BEGIN:VCALENDAR
VERSION:2.0
PRODID:-//guineainfomarket.com - ECPv6.15.20//NONSGML v1.0//EN
CALSCALE:GREGORIAN
METHOD:PUBLISH
X-WR-CALNAME:guineainfomarket.com
X-ORIGINAL-URL:https://www.guineainfomarket.com
X-WR-CALDESC:Eventos para guineainfomarket.com
REFRESH-INTERVAL;VALUE=DURATION:PT1H
X-Robots-Tag:noindex
X-PUBLISHED-TTL:PT1H
BEGIN:VTIMEZONE
TZID:Africa/Malabo
BEGIN:STANDARD
TZOFFSETFROM:+0100
TZOFFSETTO:+0100
TZNAME:WAT
DTSTART:20210101T000000
END:STANDARD
END:VTIMEZONE
BEGIN:VEVENT
DTSTART;TZID=Africa/Malabo:20220601T110000
DTEND;TZID=Africa/Malabo:20220601T123000
DTSTAMP:20260419T224231
CREATED:20220608T211007Z
LAST-MODIFIED:20220608T211007Z
UID:48112-1654081200-1654086600@www.guineainfomarket.com
SUMMARY:BLUE TALK MALABO: “UN FUTURO MÁS AZUL”
DESCRIPTION:El próximo día 1 de Junio tendrá Lugar en Malabo la conferencia «Blue Talk Malabo» organizado por la Naciones Unidas e en el marco del «Dia Mundial de los Océanos». \nCon el lema «Mejorar la conservación y el uso sostenible de los océanos y sus recursos\nmediante la aplicación del derecho internacional\, tal como se refleja en la\nConvención de las Naciones Unidas sobre el derecho del mar». \n1 junio 2022 – 10h00 a 13h00 Malabo | Auditorio de las Naciones Unidas \n[pdf-embedder url=»https://www.guineainfomarket.com/wp-content/uploads/2022/06/Agenda-de-la-jornada.pdf» title=»Agenda de la jornada»]\n  \n 
URL:https://www.guineainfomarket.com/event/blue-talk-malabo-un-futuro-mas-azul/
CATEGORIES:Conference
ATTACH;FMTTYPE=image/jpeg:https://www.guineainfomarket.com/wp-content/uploads/2022/06/Blue-Talk-Malabo.jpeg
END:VEVENT
END:VCALENDAR