BEGIN:VCALENDAR
VERSION:2.0
PRODID:-//guineainfomarket.com - ECPv6.15.20//NONSGML v1.0//EN
CALSCALE:GREGORIAN
METHOD:PUBLISH
X-ORIGINAL-URL:https://www.guineainfomarket.com
X-WR-CALDESC:Eventos para guineainfomarket.com
REFRESH-INTERVAL;VALUE=DURATION:PT1H
X-Robots-Tag:noindex
X-PUBLISHED-TTL:PT1H
BEGIN:VTIMEZONE
TZID:Africa/Malabo
BEGIN:STANDARD
TZOFFSETFROM:+0100
TZOFFSETTO:+0100
TZNAME:WAT
DTSTART:20210101T000000
END:STANDARD
END:VTIMEZONE
BEGIN:VEVENT
DTSTART;VALUE=DATE:20220717
DTEND;VALUE=DATE:20220725
DTSTAMP:20260420T002806
CREATED:20220513T122515Z
LAST-MODIFIED:20220513T122628Z
UID:47312-1658016000-1658707199@www.guineainfomarket.com
SUMMARY:Conferencia Episcopal de África Central
DESCRIPTION:Según una nota publicada por la vicepresidencia de la República de Guinea Ecuatorial en las redes sociales\,  la ciudad de Mongomo albergará la próxima Conferencia Episcopal de África Central\, que se celebrará del 17 al 24 de Julio del presente año. \nEl Vicepresidente Teodoro Nguema Obiang Mangue recibió en audiencia al Obispo de Mongomo\, Monseñor Juan Domingo Beka\, el pasado lunes 18 de abril. En el encuentro\, el obispo informó al Encargado de Defensa y Seguridad del Estado que la ciudad de Mongomo albergara este evento religioso de la subregión. \nEl  Vicepresidente de la República ha asegurado que el Gobierno apoyará a la iglesia católica con el despliegue de un dispositivo de seguridad durante la conferencia para garantizar la tranquilad de los invitados. \nMongomo es\, precisamente\, la sede de la Santa Basílica de la Inmaculada Concepción\, que es actualmente el edificio religioso más grande de África Central y la segunda iglesia católica más grande de toda África\, después de la Basílica de Nuestra Señora de la Paz de Yamusukro\, en Costa de Marfil.
URL:https://www.guineainfomarket.com/event/conferencia-episcopal-de-africa-central/
CATEGORIES:Conference
ATTACH;FMTTYPE=image/jpeg:https://www.guineainfomarket.com/wp-content/uploads/2022/04/Basilica-de-Mongomo.jpg
END:VEVENT
END:VCALENDAR