BEGIN:VCALENDAR
VERSION:2.0
PRODID:-//guineainfomarket.com - ECPv6.15.20//NONSGML v1.0//EN
CALSCALE:GREGORIAN
METHOD:PUBLISH
X-WR-CALNAME:guineainfomarket.com
X-ORIGINAL-URL:https://www.guineainfomarket.com
X-WR-CALDESC:Eventos para guineainfomarket.com
REFRESH-INTERVAL;VALUE=DURATION:PT1H
X-Robots-Tag:noindex
X-PUBLISHED-TTL:PT1H
BEGIN:VTIMEZONE
TZID:Africa/Malabo
BEGIN:STANDARD
TZOFFSETFROM:+0100
TZOFFSETTO:+0100
TZNAME:WAT
DTSTART:20210101T000000
END:STANDARD
END:VTIMEZONE
BEGIN:VEVENT
DTSTART;VALUE=DATE:20220825
DTEND;VALUE=DATE:20220829
DTSTAMP:20260420T020453
CREATED:20220513T122323Z
LAST-MODIFIED:20220822T172413Z
UID:47310-1661385600-1661731199@www.guineainfomarket.com
SUMMARY:Festival Internacional Moda y Arte en Guinea Ecuatorial
DESCRIPTION:El Festival Internacional Moda y Arte en Guinea Ecuatorial es un evento creado con el propósito de promocionar la cultura\, el arte y el turismo de nuestro país; crear sinergias con mentores internacionales para jóvenes diseñadores y artistas\, facilitando su inserción profesional y apostando por la formación\, el empleo\, la innovación y el emprendimiento en el sector de la moda\, confección y textil a través de actividades diversas como son: concursos de jóvenes diseñadores\, formaciones presenciales y virtuales\, talleres\, ferias\, exposiciones\, conferencias\, mentorías y desfiles de moda de diseñadores internacionales. \nMisión y visión \nEstablecer una plataforma sostenible para el crecimiento profesional y empresarial de los diseñadores y artistas a nivel nacional e internacional. \nObjetivo general \n*Crear una industria con la potencial de generar ingresos para la economía de nuestro país. \n*Atraer turistas internacionales y empresarios\n*Crear empleos para jóvenes y mujeres\n*Reducir la delincuencia y crear independencia socio-económico para jóvenes\n*Ser un país de referencia a nivel internacional en el sector de la moda.\n*Fomentar iniciativas en el ámbito de la moda\, textil\, confección\n*Facilitar herramientas para su emprendimiento\, empoderamiento y crecimiento profesional.\n*Apoyar proyectos innovadores y sostenibles.\n*Crear sinergias con potenciales mentores para proyectos de ámbito local e internacional\n*Lograr la autosuficiencia\, ya que esta iniciativa creará puestos de trabajo para sastres\, directores creativos\, diseñadores textiles\, modelos\, periodistas\, fotógrafos\, peluqueros y maquilladores.\n*Sensibilizar sobre la educación cultural y artística \nFormación \nEmprendimiento e innovación para el desarrollo profesional en diseño de moda y confección textil para jóvenes diseñadores. \nPrevio al festival\, se lanzará una oferta pública de solicitud de expedientes en el que todos los jóvenes diseñadores o aspirantes podrán participar para el concurso final. De todos los expedientes recibidos\, se seleccionarán diez que serán los jóvenes que participarán en el concurso\, y recibirán una formación y capacitación en diseño de moda y confección textil. De esos diez jóvenes\, tres serán los ganadores del concurso\, habiendo tres categorías de premios. \nLa inscripción es gratuita\, todos recibirán diploma de participación. \nRequisitos para acceder al concurso: \n\nEdad: de 15 a 35 años\nSer ecuatoguineano\nCarta de presentación personal\n\nFecha de inscripción: del 21 de abril al 28 de mayo \nPara inscribirse es necesario remitir el formulario de inscripción\, así como toda la documentación requerida en las bases del concurso \n\nPresentación de ilustración de 5 diseños\nDetallar la descripción de los diseños (inspiración)\nSe valorará la creatividad\, originalidad y la innovación.\nTener pasión y visión de ser profesional en el ámbito de la moda y arte\n\nDisciplina\, compromiso y profesional \nEstrategia y sostenibilidad \nEl ganador del primer premio del concurso tendrá un año más de formación en la Casa Moda Lucas Escalada tras ganar el concurso. Además de la posibilidad de crear sus diseños\, elaborarlos y confeccionarlos\, podrá exponerlos en la galería de la Casa Moda Lucas Escalada para ser puestos a la venta al público. Participará en eventos de moda internacionales para darse a conocer a nivel internacional. Y tras un año\, se le enviará a formarse en un centro de estudios de moda. \nPremio \n\nPrimer premio 1.000.000 xaf\nSegundo premio 500.000 xaf\nTercer premio 250.000\n\nDesfile de moda \n1º Desfile. Diseñadores internacionales: servirá de modelo piloto para los concursantes del festival para conocer el protocolo de organización de un desfile de y como vender y promocionar una colección de moda. \n2º Desfile. Concurso final de los jóvenes diseñadores: Será el desfile donde los diez participantes presentaran sus colecciones para ser elegidas por el jurado al ganador del concurso. \nPara más información acercase a la Casa Moda Lucas Escalada situada en la calle Abilio Balboa (cerca la Radio Televisión Asonga\, Antiguo Hotel Bantu) o llamar al +240222919596 \nEn caso de dificultad al inscribirse en online: acudir a la Casa Moda Lucas Escala o enviar todos sus requisitos por correo infofimyage@yahoo.com
URL:https://www.guineainfomarket.com/event/festival-internacional-moda-y-arte-en-guinea-ecuatorial/
CATEGORIES:Festival
ATTACH;FMTTYPE=image/jpeg:https://www.guineainfomarket.com/wp-content/uploads/2022/05/Festival-Moda-y-Arte-de-Guinea-Ecuatorial-.jpeg
END:VEVENT
END:VCALENDAR