BEGIN:VCALENDAR
VERSION:2.0
PRODID:-//guineainfomarket.com - ECPv6.15.20//NONSGML v1.0//EN
CALSCALE:GREGORIAN
METHOD:PUBLISH
X-ORIGINAL-URL:https://www.guineainfomarket.com
X-WR-CALDESC:Eventos para guineainfomarket.com
REFRESH-INTERVAL;VALUE=DURATION:PT1H
X-Robots-Tag:noindex
X-PUBLISHED-TTL:PT1H
BEGIN:VTIMEZONE
TZID:Africa/Malabo
BEGIN:STANDARD
TZOFFSETFROM:+0100
TZOFFSETTO:+0100
TZNAME:WAT
DTSTART:20210101T000000
END:STANDARD
END:VTIMEZONE
BEGIN:VEVENT
DTSTART;VALUE=DATE:20221024
DTEND;VALUE=DATE:20221026
DTSTAMP:20260420T052612
CREATED:20221008T083922Z
LAST-MODIFIED:20221008T083922Z
UID:50256-1666569600-1666742399@www.guineainfomarket.com
SUMMARY:Foro de Liderazgo en Turismo de África
DESCRIPTION:El 5º Foro de Liderazgo en Turismo de África de 2022 prestará especial atención a facilitar conversaciones y asociaciones con el objetivo principal de fomentar los viajes dentro de África a través del comercio\, las asociaciones y las inversiones dentro de África.  \nAfrica Tourism Leadership Forum 2022 (ATLF)  albergará a los organismos principales del sector privado de turismo de África para una mesa redonda. A esto asistirán líderes y expertos de varias Organizaciones Nacionales de Turismo y partes interesadas clave en las industrias de viajes\, turismo y afines. Esto llama a todas las partes interesadas de la industria a reunirse en Gaborone; conectarse\, comunicarse y compartir experiencias e ideas sobre cómo los viajes de los africanos y para los africanos pueden organizarse de una manera que sea asequible\, atractiva y que siga siendo auténtica con la cultura y las tradiciones del destino del viaje.  \nEl núcleo de los viajes africanos es el viaje en sí mismo\, pasar de un país\, provincia o ciudad a otro. Al impulsar los viajes y el turismo en África\, es importante que la industria de la aviación se siente a la mesa como resultado.  \nEl Foro de Directores Generales y Ejecutivos de Viajes\, Turismo y Aviación de África\, que tendrá lugar al margen de la ATLF y los premios\, brindará información profesional sobre el papel de la digitalización y la innovación tecnológica para impulsar las llegadas de turistas nacionales y regionales y los ingresos en África.  \nAdemás\, la charla ministerial se centrará en garantizar una conectividad aérea regional asequible abogando por que los condados africanos desbloqueen el diálogo. \nAfrica Tourism Leadership Forum (ATLF) \nAfrica Tourism Leadership Forum (ATLF) es una plataforma de diálogo panafricana. Reúne a las partes interesadas clave de los sectores de viajes\, turismo\, hospitalidad y aviación de África para establecer contactos\, compartir conocimientos y diseñar estrategias para el crecimiento de los viajes y el turismo dentro de África en todo el continente\, al tiempo que mejora el valor de marca de «Destination Africa». \nTambién es el único foro de este tipo en África que destaca el turismo como un pilar económico importante para diversificar las economías africanas. El Foro es convocado por Africa Tourism Partners y BDO South Africa.
URL:https://www.guineainfomarket.com/event/foro-de-liderazgo-en-turismo-de-africa/
CATEGORIES:Forum
ATTACH;FMTTYPE=image/jpeg:https://www.guineainfomarket.com/wp-content/uploads/2022/10/Africa-Tourism-Leadership-Forum-ATLF.jpg
END:VEVENT
END:VCALENDAR