BEGIN:VCALENDAR
VERSION:2.0
PRODID:-//guineainfomarket.com - ECPv6.15.20//NONSGML v1.0//EN
CALSCALE:GREGORIAN
METHOD:PUBLISH
X-ORIGINAL-URL:https://www.guineainfomarket.com
X-WR-CALDESC:Eventos para guineainfomarket.com
REFRESH-INTERVAL;VALUE=DURATION:PT1H
X-Robots-Tag:noindex
X-PUBLISHED-TTL:PT1H
BEGIN:VTIMEZONE
TZID:Africa/Malabo
BEGIN:STANDARD
TZOFFSETFROM:+0100
TZOFFSETTO:+0100
TZNAME:WAT
DTSTART:20220101T000000
END:STANDARD
END:VTIMEZONE
BEGIN:VEVENT
DTSTART;VALUE=DATE:20230126
DTEND;VALUE=DATE:20230127
DTSTAMP:20260420T104003
CREATED:20230104T105527Z
LAST-MODIFIED:20230104T105527Z
UID:53187-1674691200-1674777599@www.guineainfomarket.com
SUMMARY:Invest in African Energy\, Londres 26 Enero 2023
DESCRIPTION:Explorando nuevas oportunidades para financiar proyectos energéticos en África\, la Cámara Africana de la Energía organizará una recepción especial de Año Nuevo en el Waldorf Hilton de Londres\, que apoyará las oportunidades de inversión europeas en todo el continente e impulsará el crecimiento económico y el desarrollo socioeconómico. \nLa voz del sector energético africano\, la African Energy Chamber (AEC)\, organizará un evento especial de recepción de Año Nuevo en el hotel de lujo Waldorf Hilton en Londres el 26 de enero\, donde se animará a los participantes a explorar nuevas vías para financiar proyectos energéticos en el continente africano. Durante el evento\, los inversores y los líderes energéticos africanos tendrán una plataforma para apoyar las iniciativas energéticas que impulsan el crecimiento económico y el desarrollo humano en todo el continente. \nLa Cámara Africana de la Energía organiza un evento en Londres para financiar proyectos energéticos en África
URL:https://www.guineainfomarket.com/event/invest-in-african-energy-londres-26-enero-2023/
CATEGORIES:Conference,Forum
ATTACH;FMTTYPE=image/jpeg:https://www.guineainfomarket.com/wp-content/uploads/2023/01/Africa-Energy-Week-_london-26-Enero-2023.jpeg
END:VEVENT
BEGIN:VEVENT
DTSTART;VALUE=DATE:20230215
DTEND;VALUE=DATE:20230217
DTSTAMP:20260420T104003
CREATED:20230114T074951Z
LAST-MODIFIED:20230114T074951Z
UID:53461-1676419200-1676591999@www.guineainfomarket.com
SUMMARY:Africa Tech Summit Nairobi 2023
DESCRIPTION:Africa Tech Summit Nairobi \, del 15 y 16 de febrero de 2023 Sarit Expo Centre\, Nairobi Kenia \nLuego de una venta completa en 2022\, la quinta edición de Africa Tech Summit Nairobi conectará a los líderes tecnológicos del ecosistema africano y los jugadores internacionales bajo un mismo techo. \nConéctese con partes interesadas clave\, incluidas empresas tecnológicas\, operadores móviles\, fintechs\, DeFi y criptoempresas\, inversores\, nuevas empresas líderes\, reguladores y partes interesadas de la industria que impulsan los negocios y la inversión. \nAfrica Tech Summit Nairobi contará con múltiples sesiones en tres pistas de cumbres de inmersión profunda que ofrecerán una visión transversal de los avances tecnológicos y las oportunidades de todo el continente. Una serie de conferencias magistrales\, charlas junto a la chimenea\, paneles y sesiones de trabajo de líderes tecnológicos\, empresas\, empresarios e inversores se complementarán con tiempo de calidad para establecer contactos.
URL:https://www.guineainfomarket.com/event/africa-tech-summit-nairobi-2023/
CATEGORIES:Conference
ATTACH;FMTTYPE=image/jpeg:https://www.guineainfomarket.com/wp-content/uploads/2023/01/Africa-Tech-Summint-Nairobi-2023.jpg
END:VEVENT
END:VCALENDAR