BEGIN:VCALENDAR
VERSION:2.0
PRODID:-//guineainfomarket.com - ECPv6.15.20//NONSGML v1.0//EN
CALSCALE:GREGORIAN
METHOD:PUBLISH
X-ORIGINAL-URL:https://www.guineainfomarket.com
X-WR-CALDESC:Eventos para guineainfomarket.com
REFRESH-INTERVAL;VALUE=DURATION:PT1H
X-Robots-Tag:noindex
X-PUBLISHED-TTL:PT1H
BEGIN:VTIMEZONE
TZID:Africa/Malabo
BEGIN:STANDARD
TZOFFSETFROM:+0100
TZOFFSETTO:+0100
TZNAME:WAT
DTSTART:20210101T000000
END:STANDARD
END:VTIMEZONE
BEGIN:VEVENT
DTSTART;VALUE=DATE:20220411
DTEND;VALUE=DATE:20220415
DTSTAMP:20260419T173850
CREATED:20220219T071530Z
LAST-MODIFIED:20220219T072354Z
UID:44815-1649635200-1649980799@www.guineainfomarket.com
SUMMARY:32.º Conferencia Regional de la FAO para África en Malabo Guinea Ecuatorial
DESCRIPTION:32.º período de sesiones de la Conferencia Regional de la FAO para África\nOrganizado conjuntamente por el Gobierno de Guinea Ecuatorial y la FAO\n\nGuinea Ecuatorial acogerá la conferencia regional de la ONU @FAO en abril. La conferencia regional es el máximo órgano de gobierno de la FAO en África y alberga a los ministros de agricultura junto con otras partes interesadas para brindar orientación sobre la seguridad alimentaria . \nLa Conferencia Regional de la FAO para África es un foro para discutir las prioridades nacionales y regionales actuales y los problemas apremiantes de la región\, incluidos los impactos de la pandemia de COVID-19 en la seguridad alimentaria y la nutrición\, la necesidad urgente de transformar los sistemas agroalimentarios e innovaciones y alianzas para impulsar el progreso hacia los Objetivos de Desarrollo Sostenible. Es el máximo órgano de gobierno de la FAO. \nEl 32º período de sesiones de la Conferencia Regional para África (ARC32) pondrá el foco en el Marco Estratégico de la FAO y los Cuatro Mejores: Mejor Producción\, Mejor Nutrición\, Mejor Medio Ambiente y Mejor Vida para todos\, sin dejar a nadie atrás. ARC32 se realizará en modalidad híbrida\, tanto presencial en Malabo como vía Zoom. \nLa documentación de la conferencia estará en inglés\, francés\, español y árabe. La interpretación será en inglés\, francés\, español\, árabe y portugués. \n \nEl hashtag del evento de este año es #ARC32 . \nContacto\nSecretaría de la Conferencia\nARC-Secretariat@fao.org \nOficial de Información de la Conferencia\nZoie.Jones@fao.org \nEnlaces relacionados \n\nOficina Regional de la FAO para África\nConferencias regionales de la FAO 2022
URL:https://www.guineainfomarket.com/event/32-conferencia-regional-de-la-fao-para-africa-en-malabo-guinea-ecuatorial/
CATEGORIES:Conferencia y exposición,Cumbre
ATTACH;FMTTYPE=image/jpeg:https://www.guineainfomarket.com/wp-content/uploads/2022/02/FAO-Africa-Guinea-Ecuatorial-2022.jpg
END:VEVENT
END:VCALENDAR