BEGIN:VCALENDAR
VERSION:2.0
PRODID:-//guineainfomarket.com - ECPv6.15.20//NONSGML v1.0//EN
CALSCALE:GREGORIAN
METHOD:PUBLISH
X-WR-CALNAME:guineainfomarket.com
X-ORIGINAL-URL:https://www.guineainfomarket.com
X-WR-CALDESC:Eventos para guineainfomarket.com
REFRESH-INTERVAL;VALUE=DURATION:PT1H
X-Robots-Tag:noindex
X-PUBLISHED-TTL:PT1H
BEGIN:VTIMEZONE
TZID:Africa/Malabo
BEGIN:STANDARD
TZOFFSETFROM:+0100
TZOFFSETTO:+0100
TZNAME:WAT
DTSTART:20210101T000000
END:STANDARD
END:VTIMEZONE
BEGIN:VEVENT
DTSTART;TZID=Africa/Malabo:20221008T140000
DTEND;TZID=Africa/Malabo:20221008T170000
DTSTAMP:20260420T034046
CREATED:20221008T080847Z
LAST-MODIFIED:20221008T081115Z
UID:50257-1665237600-1665248400@www.guineainfomarket.com
SUMMARY:GRAN EVENTO de BANGE IMPULSA mañana sábado a partir de las 14h en el Paseo Marítimo de Malabo.
DESCRIPTION:GRAN EVENTO de BANGE IMPULSA mañana sábado a partir de las 14h en el Paseo Marítimo de Malabo. \n\n🔊 GRAN EVENTO de BANGE IMPULSA mañana sábado a partir de las 14h en el Paseo Marítimo de Malabo. TE ESPERAMOS❕HABRÁN PREMIOS Y MUCHO MÁS❕❕❕@bangeoficial @BangeImpulsa @estudiosCEF @AhoraEg @GuineaMarket #bangeimpulsa #bbs #evento #paseomaritimomalabo #sorteo #GE pic.twitter.com/gPOdkbmj7x \n— BANGE Business School (@BangeBSchool) October 7\, 2022
URL:https://www.guineainfomarket.com/event/gran-evento-de-bange-impulsa-manana-sabado-a-partir-de-las-14h-en-el-paseo-maritimo-de-malabo/
CATEGORIES:Event
ATTACH;FMTTYPE=image/jpeg:https://www.guineainfomarket.com/wp-content/uploads/2022/10/gRAN-eVENTO-bangeimpulsa.jpg
ORGANIZER;CN="BANGEIMPULSA":MAILTO:info@bangeimpulsa.com
END:VEVENT
BEGIN:VEVENT
DTSTART;VALUE=DATE:20221018
DTEND;VALUE=DATE:20221022
DTSTAMP:20260420T034046
CREATED:20221008T085537Z
LAST-MODIFIED:20221008T085537Z
UID:50263-1666051200-1666396799@www.guineainfomarket.com
SUMMARY:African Energy Week 2022 Ciudad del Cabo\, Sudáfrica
DESCRIPTION:El Ministro de Minas e Hidrocarburos de Guinea Ecuatorial Gabriel Obiang ha confirmado su participación en la «Semana Africana de Energia (African Energy Week)«\, que se celebrará en la ciudad del Cabo (Sudafrica) del 18 al 21 de Octubre del 2022.  \nAfrican Energy Week (AEW) es el evento interactivo de exposición y creación de redes de la Cámara Africana de Energía (AEC)\, establecido en 2021\, que busca unir a las partes interesadas africanas en energía\, impulsar el crecimiento y el desarrollo de la industria y promover África como destino para eventos enfocados en África. \nAfrican Energy Week (AEW) es el evento anual de la African Energy Chamber\, que reúne a líderes energéticos africanos\, inversores globales y ejecutivos de todo el sector público y privado durante cuatro días de intenso diálogo sobre el futuro de la industria energética africana. AEW\, una conferencia interactiva\, exhibición y evento de redes\, se estableció en 2021 bajo la premisa de hacer que la pobreza energética sea historia para 2030\, organizando paneles de discusión\, foros de inversores\, cumbres de la industria y oportunidades de reuniones individuales\, e impulsando las discusiones que remodelarán la trayectoria del desarrollo energético del continente. \nEn 2022\, el evento regresa más grande y mejor que nunca\, sirviendo como el lugar de encuentro oficial para la élite energética de África. A la vanguardia de la industria energética africana\, AEW promueve el papel que juega África en los asuntos energéticos globales\, centrado en el diálogo y la toma de decisiones liderados por africanos. Abarcando todo el sector energético y la cadena de valor\, AEW representa la única conferencia en el continente representativa de todo el sector. \nComo organizador\, la AEC se enorgullece de albergar AEW de acuerdo con el revolucionario concepto African Energy Village\, una nueva forma de planificación de eventos que utiliza un centro de lugares diseñado para albergar a más de 1700 delegados. Los asistentes tienen la oportunidad de diseñar su propio programa\, eligiendo las sesiones en las que desean participar mientras se adhieren a los protocolos COVID-19. Lo que es más\, el concepto de la aldea de la energía ofrece una variedad de oportunidades de patrocinio\, lo que amplía la exposición de las empresas y crea sesiones cada vez más exclusivas que permiten oportunidades íntimas para establecer contactos. Con Sudáfrica levantando todas las restricciones a las reuniones sociales\, AEW 2022 promete un evento de mayor magnitud\, asistencia y éxito en 2022\, ya que los actores energéticos mundiales y africanos se abren camino hacia el principal evento energético del continente. \nAEW demuestra el compromiso de la AEC con el pueblo africano y la energía africana. Con un enfoque en atraer una audiencia global a Ciudad del Cabo\, AEW representa el evento energético oficial de África donde se tomarán decisiones sobre el futuro de los recursos naturales del continente.
URL:https://www.guineainfomarket.com/event/african-energy-week-2022-ciudad-del-cabo-sudafrica/
CATEGORIES:Event
ATTACH;FMTTYPE=image/jpeg:https://www.guineainfomarket.com/wp-content/uploads/2022/10/FeS6i8_XwAAI-uK.jpg
END:VEVENT
BEGIN:VEVENT
DTSTART;VALUE=DATE:20221024
DTEND;VALUE=DATE:20221026
DTSTAMP:20260420T034046
CREATED:20221008T083922Z
LAST-MODIFIED:20221008T083922Z
UID:50256-1666569600-1666742399@www.guineainfomarket.com
SUMMARY:Foro de Liderazgo en Turismo de África
DESCRIPTION:El 5º Foro de Liderazgo en Turismo de África de 2022 prestará especial atención a facilitar conversaciones y asociaciones con el objetivo principal de fomentar los viajes dentro de África a través del comercio\, las asociaciones y las inversiones dentro de África.  \nAfrica Tourism Leadership Forum 2022 (ATLF)  albergará a los organismos principales del sector privado de turismo de África para una mesa redonda. A esto asistirán líderes y expertos de varias Organizaciones Nacionales de Turismo y partes interesadas clave en las industrias de viajes\, turismo y afines. Esto llama a todas las partes interesadas de la industria a reunirse en Gaborone; conectarse\, comunicarse y compartir experiencias e ideas sobre cómo los viajes de los africanos y para los africanos pueden organizarse de una manera que sea asequible\, atractiva y que siga siendo auténtica con la cultura y las tradiciones del destino del viaje.  \nEl núcleo de los viajes africanos es el viaje en sí mismo\, pasar de un país\, provincia o ciudad a otro. Al impulsar los viajes y el turismo en África\, es importante que la industria de la aviación se siente a la mesa como resultado.  \nEl Foro de Directores Generales y Ejecutivos de Viajes\, Turismo y Aviación de África\, que tendrá lugar al margen de la ATLF y los premios\, brindará información profesional sobre el papel de la digitalización y la innovación tecnológica para impulsar las llegadas de turistas nacionales y regionales y los ingresos en África.  \nAdemás\, la charla ministerial se centrará en garantizar una conectividad aérea regional asequible abogando por que los condados africanos desbloqueen el diálogo. \nAfrica Tourism Leadership Forum (ATLF) \nAfrica Tourism Leadership Forum (ATLF) es una plataforma de diálogo panafricana. Reúne a las partes interesadas clave de los sectores de viajes\, turismo\, hospitalidad y aviación de África para establecer contactos\, compartir conocimientos y diseñar estrategias para el crecimiento de los viajes y el turismo dentro de África en todo el continente\, al tiempo que mejora el valor de marca de «Destination Africa». \nTambién es el único foro de este tipo en África que destaca el turismo como un pilar económico importante para diversificar las economías africanas. El Foro es convocado por Africa Tourism Partners y BDO South Africa.
URL:https://www.guineainfomarket.com/event/foro-de-liderazgo-en-turismo-de-africa/
CATEGORIES:Forum
ATTACH;FMTTYPE=image/jpeg:https://www.guineainfomarket.com/wp-content/uploads/2022/10/Africa-Tourism-Leadership-Forum-ATLF.jpg
END:VEVENT
END:VCALENDAR